0.001140216714702547
0
0
-0.001140216714702547
144.7697143554688
-6.140265464782715
