0.001164172310382128
0
0
-0.001164172310382128
146.8795166015625
-7.819698810577393
