0.001141742919571698
0
0
-0.001141742919571698
140.8796691894531
-2.140540361404419
