0.005166834685951471
0
0
-0.005166834685951471
140.0186614990234
1.77152693271637
