0.001149222603999078
0
0
-0.001149222603999078
140.7896575927734
-6.4902663230896
